BEGIN:VCALENDAR
PRODID:-//kirchenweb.ch gmbh//veranstaltungsausgabe v2.0//DE
VERSION:2.0
METHOD:PUBLISH
BEGIN:VEVENT
DTSTART:20230528T080000Z
DTEND:20230528T090000Z
LOCATION:Theodorskirche\, Theodorskirchplatz 5\, 4058 Basel
TRANSP:OPAQUE
SEQUENCE:0
UID:162491-veranstaltung@erk-bs.ch
DTSTAMP:20230522T083641Z
DESCRIPTION:Kontakt: Franziska Kuhn-Häderli\, Prof. Dr. theol. Andrea
  Bieler\n\nWeitere Infos: https://www.erk-bs.ch/veranstaltung/162491
SUMMARY:Gottesdienst mit Taufe und Abendmahl
PRIORITY:5
X-MICROSOFT-CDO-IMPORTANCE:1
CLASS:PUBLIC
END:VEVENT
END:VCALENDAR
