BEGIN:VCALENDAR
PRODID:-//kirchenweb.ch gmbh//veranstaltungsausgabe v2.0//DE
VERSION:2.0
METHOD:PUBLISH
BEGIN:VEVENT
DTSTART:20230604T080000Z
DTEND:20230604T090000Z
LOCATION:Theodorskirche\, Theodorskirchplatz 5\, 4058 Basel
TRANSP:OPAQUE
SEQUENCE:0
UID:162492-veranstaltung@erk-bs.ch
DTSTAMP:20240902T072120Z
DESCRIPTION:\n\nKontakt: Franziska Kuhn-Häderli & \n\nWeitere Infos:
  https://www.erk-bs.ch/veranstaltung/162492
SUMMARY:Konfirmations-Gottesdienst
PRIORITY:5
X-MICROSOFT-CDO-IMPORTANCE:1
CLASS:PUBLIC
END:VEVENT
END:VCALENDAR
