BEGIN:VCALENDAR
PRODID:-//kirchenweb.ch gmbh//veranstaltungsausgabe v2.0//DE
VERSION:2.0
METHOD:PUBLISH
BEGIN:VEVENT
DTSTART:20230518T080000Z
DTEND:20230518T090000Z
LOCATION:Theodorskirche\, Theodorskirchplatz 5\, 4058 Basel
TRANSP:OPAQUE
SEQUENCE:0
UID:162645-veranstaltung@erk-bs.ch
DTSTAMP:20240206T081204Z
DESCRIPTION:«erhebend»\nAuffahrtsgottesdienst mit Teilete\n\nIm Rahmen
  des Europäischen Jugendchorfestivals EJCF ist der georgische Chor
  Mdzlevari im Auffahrtsgottesdienst in der Theodorskirche zu Gast. Die
  gegen 50 Knaben und jungen Männer zwischen 10 und 25 Jahren haben viel
  jugendliche Energie und eine faszinierende Musiktradition im Gepäck.
  Kirchgemeinde Kleinbasel und Lutherische Kirche feiern den Gottesdienst
  gemeinsam. Gross und Klein sind herzlich willkommen. \n\nNach dem
  Gottesdienst lädt eine Teilete zu einem einfachen Zusammensein mit den
  Gästen über Mittag. Kuchen und Fingerfood werden gerne entgegengenommen
  (philipp.roth@erk-bs.ch). Feiern und geniessen Sie mit!\n\nÜber unseren
  http://www.youtube.com/channel/UCAW8gzkA7BgOx9e7CiK23ig können Sie
  diesen Gottesdienst live mitfeiern oder auch danach nochmals anschauen. 
 \n\n\n\nKontakt:  & Pfarrerin Janina Glienicke \n\nWeitere Infos:
  https://www.erk-bs.ch/veranstaltung/162645
SUMMARY:Auffahrtsgottesdienst mit Livestream
PRIORITY:5
X-MICROSOFT-CDO-IMPORTANCE:1
CLASS:PUBLIC
END:VEVENT
END:VCALENDAR
