BEGIN:VCALENDAR
PRODID:-//kirchenweb.ch gmbh//veranstaltungsausgabe v2.0//DE
VERSION:2.0
METHOD:PUBLISH
BEGIN:VEVENT
DTSTART:20230527T150000Z
DTEND:20230527T160000Z
LOCATION:Treffpunkt beim Musicaltheater\, \,
TRANSP:OPAQUE
SEQUENCE:0
UID:162666-veranstaltung@erk-bs.ch
DTSTAMP:20230522T084418Z
DESCRIPTION:Kontakt: Franziska Kuhn-Häderli\n\nWeitere Infos:
  https://www.erk-bs.ch/veranstaltung/162666
SUMMARY:Weggottesdienst in der Erlenmatt
PRIORITY:5
X-MICROSOFT-CDO-IMPORTANCE:1
CLASS:PUBLIC
END:VEVENT
END:VCALENDAR
