BEGIN:VCALENDAR
PRODID:-//kirchenweb.ch gmbh//veranstaltungsausgabe v2.0//DE
VERSION:2.0
METHOD:PUBLISH
BEGIN:VEVENT
DTSTART:20230518T080000Z
DTEND:20230518T090000Z
LOCATION:Kirche Huningue\, Frankreich\, 2B\, Quai du Rhin\,
TRANSP:OPAQUE
SEQUENCE:0
UID:162667-veranstaltung@erk-bs.ch
DTSTAMP:20230508T155252Z
DESCRIPTION:ca. 11.00 Uhr Apéro\nca. 12.00 Uhr Mittagessen / Teilete
 \nMitnehmen: 	Beilagen für’s Zmittagsbuffet (z.B Teigwaren-\,
  Rüebli-\, Kartoffel-\, Randen-\, Maissalat\, Zopf…) \nODER etwas fürs
  Dessertbuffet (Wähe\, Kuchen\, Creme\,…)\no	Grilladen für sich selber
 \no	Getränke können zum Selbstkostenpreis gekauft werden. \n\n-> Falls
  jemand froh wäre um eine Transportmöglichkeit\, darf er oder sie sich
  bei Thomas Stebler melden 061/631 48 15\, der mit dem Auto hinfährt und
  gerne noch Menschen mitnimmt.\n\n\n\nKontakt: Franziska Kuhn-Häderli
  (Kirchgemeinde Kleinbasel); Pfarrer Michel Cordier (Huningue); Pfarrerin
  Johanna Paehler (Friedlingen-Weil)\n\nWeitere Infos:
  https://www.erk-bs.ch/veranstaltung/162667
SUMMARY:Dreiländer-Gottesdienst
PRIORITY:5
X-MICROSOFT-CDO-IMPORTANCE:1
CLASS:PUBLIC
END:VEVENT
END:VCALENDAR
