BEGIN:VCALENDAR
PRODID:-//kirchenweb.ch gmbh//veranstaltungsausgabe v2.0//DE
VERSION:2.0
METHOD:PUBLISH
BEGIN:VEVENT
DTSTART:20231013T081500Z
DTEND:20231013T091500Z
LOCATION:Zum Lamm\, Rebgasse 16\, 4058 Basel
TRANSP:OPAQUE
SEQUENCE:0
UID:164506-veranstaltung@erk-bs.ch
DTSTAMP:20221114T174510Z
DESCRIPTION:Kontakt: \n\nWeitere Infos:
  https://www.erk-bs.ch/veranstaltung/164506
SUMMARY:Ökumenischer Erntedank-Gottesdienst mit Abendmahl
PRIORITY:5
X-MICROSOFT-CDO-IMPORTANCE:1
CLASS:PUBLIC
END:VEVENT
END:VCALENDAR
