BEGIN:VCALENDAR
PRODID:-//kirchenweb.ch gmbh//veranstaltungsausgabe v2.0//DE
VERSION:2.0
METHOD:PUBLISH
BEGIN:VEVENT
DTSTART:20230526T153000Z
DTEND:20230526T163000Z
LOCATION:Theodorskirche\, Theodorskirchplatz 5\, 4058 Basel
TRANSP:OPAQUE
SEQUENCE:0
UID:164892-veranstaltung@erk-bs.ch
DTSTAMP:20221122T103103Z
DESCRIPTION:Eine halbe Stunde Wunschsingen \nfür jedes Alter\nam Flügel
  in der Kirche\n\nLeitung: \nDr. Nicoleta Paraschivescu\n\n\n\n\n
 \nKontakt: eveline.michel@erk-bs.ch\n\nWeitere Infos:
  https://www.erk-bs.ch/veranstaltung/164892
SUMMARY:Offenes Singen
PRIORITY:5
X-MICROSOFT-CDO-IMPORTANCE:1
CLASS:PUBLIC
END:VEVENT
END:VCALENDAR
