BEGIN:VCALENDAR
PRODID:-//kirchenweb.ch gmbh//veranstaltungsausgabe v2.0//DE
VERSION:2.0
METHOD:PUBLISH
BEGIN:VEVENT
DTSTART:20230518T170000Z
DTEND:20230518T180000Z
LOCATION:Huus am Brunne El Ro'i\, Klingentalgraben 35\, 4057 Basel
TRANSP:OPAQUE
SEQUENCE:0
UID:165221-veranstaltung@erk-bs.ch
DTSTAMP:20221227T115543Z
DESCRIPTION:Kontakt: eveline.michel@erk-bs.ch\n\nWeitere Infos:
  https://www.erk-bs.ch/veranstaltung/165221
SUMMARY:Abendmahlsgottesdienst Communität El Roi und Huus am Brunne El
  Ro’i
PRIORITY:5
X-MICROSOFT-CDO-IMPORTANCE:1
CLASS:PUBLIC
END:VEVENT
END:VCALENDAR
