BEGIN:VCALENDAR
PRODID:-//kirchenweb.ch gmbh//veranstaltungsausgabe v2.0//DE
VERSION:2.0
METHOD:PUBLISH
BEGIN:VEVENT
DTSTART:20230602T083000Z
DTEND:20230602T093000Z
LOCATION:Marienhaus\, Horburgstrasse 54\, 4057 Basel
TRANSP:OPAQUE
SEQUENCE:0
UID:165627-veranstaltung@erk-bs.ch
DTSTAMP:20221202T071204Z
DESCRIPTION:Kontakt: Franziska Kuhn-Häderli\n\nWeitere Infos:
  https://www.erk-bs.ch/veranstaltung/165627
SUMMARY:APH Gottesdienst
PRIORITY:5
X-MICROSOFT-CDO-IMPORTANCE:1
CLASS:PUBLIC
END:VEVENT
END:VCALENDAR
