BEGIN:VCALENDAR
PRODID:-//kirchenweb.ch gmbh//veranstaltungsausgabe v2.0//DE
VERSION:2.0
METHOD:PUBLISH
BEGIN:VEVENT
DTSTART:20230523T174000Z
DTEND:20230523T191000Z
LOCATION:Matthäuskirche\, Feldbergstrasse 81\, 4057 Basel
TRANSP:OPAQUE
SEQUENCE:0
UID:165740-veranstaltung@erk-bs.ch
DTSTAMP:20230221T141712Z
DESCRIPTION:Gesucht: singfreudige Frauen und Männer\n\nWichtig sind ein
  gutes Gehör und Freude an klassischer Musik.\n\nEinfach vorbeikommen und
  mitmachen. Wir freuen uns auf Sie! \n\nProben jeweils dienstags\, 19.40 -
  21.10 Uhr\nin der Matthäuskirche - Seiteneingang.\n\nAnmeldung und
  Kontakt: \nBeatrice Voellmy\, Chorleiterin: 076 468 19 00\,
  bvoellmy@yahoo.com \nChristian Vontobel:christian_vontobel@bluewin.ch\n\n
 \n\n\nKontakt: eveline.michel@erk-bs.ch\n\nWeitere Infos:
  https://www.erk-bs.ch/veranstaltung/165740
SUMMARY:Kirchenchor Kirchgemeinde Kleinbasel / Proben
PRIORITY:5
X-MICROSOFT-CDO-IMPORTANCE:1
CLASS:PUBLIC
END:VEVENT
END:VCALENDAR
