BEGIN:VCALENDAR
PRODID:-//kirchenweb.ch gmbh//veranstaltungsausgabe v2.0//DE
VERSION:2.0
METHOD:PUBLISH
BEGIN:VEVENT
DTSTART:20230530T130000Z
DTEND:20230530T150000Z
LOCATION:Gemeindezentrum St. Matthäus\, Feldbergstrasse 81\, 4057 Basel
TRANSP:OPAQUE
SEQUENCE:0
UID:165778-veranstaltung@erk-bs.ch
DTSTAMP:20221202T084410Z
DESCRIPTION:Gespräch\, Kaffee\, Getränke\n\n\n\n\n\n\n\nKontakt:
  eveline.michel@erk-bs.ch\n\nWeitere Infos:
  https://www.erk-bs.ch/veranstaltung/165778
SUMMARY:Alltagscafé
PRIORITY:5
X-MICROSOFT-CDO-IMPORTANCE:1
CLASS:PUBLIC
END:VEVENT
END:VCALENDAR
