BEGIN:VCALENDAR
PRODID:-//kirchenweb.ch gmbh//veranstaltungsausgabe v2.0//DE
VERSION:2.0
METHOD:PUBLISH
BEGIN:VEVENT
DTSTART:20230926T130000Z
DTEND:20230926T154500Z
LOCATION:Gemeindezentrum St. Matthäus\, Feldbergstrasse 81\, 4057 Basel
TRANSP:OPAQUE
SEQUENCE:0
UID:165852-veranstaltung@erk-bs.ch
DTSTAMP:20221202T084752Z
DESCRIPTION:Offener Spieltreff\n\nBasteln\, Spielen\, Singen\, Malen\,
  Geschichten hören\n\nFür Kinder (2. Kindergarten bis zur 6. Klasse)
  jeweils \nMontag und Dienstag\, 15.00 - 17.45 Uhr während der Schulzeit
 \ngratis - ohne Anmeldung\n\nIn der Matthäuskirche im Untergeschoss
  hinterer Eingang - vom Spielplatz aus zugänglich\n\nWIR FREUEN UNS AUF
  DICH!\n\nEin Angebot der Evangelischen Stadtmission und der Kirchgemeinde
  Kleinbasel\n\nKontakt:\n077 405 07 70 oder 061 321 12 12
 \ninfo@stadtmission-bs.ch\n\n\n\n\nKontakt: eveline.michel@erk-bs.ch\n
 \nWeitere Infos: https://www.erk-bs.ch/veranstaltung/165852
SUMMARY:Villa YoYo Matthäuskirche
PRIORITY:5
X-MICROSOFT-CDO-IMPORTANCE:1
CLASS:PUBLIC
END:VEVENT
END:VCALENDAR
