BEGIN:VCALENDAR
PRODID:-//kirchenweb.ch gmbh//veranstaltungsausgabe v2.0//DE
VERSION:2.0
METHOD:PUBLISH
BEGIN:VEVENT
DTSTART:20230927T100000Z
DTEND:20230927T160000Z
LOCATION:Theodorskirche\, Theodorskirchplatz 5\, 4058 Basel
TRANSP:OPAQUE
SEQUENCE:0
UID:165904-veranstaltung@erk-bs.ch
DTSTAMP:20221202T085330Z
DESCRIPTION:Offenes Haus\, Bistro\, Treffpunkt\, Ruheoase\, Spielecke\,...
 \n\nDie Theodorskirche wird Teil des lebendigen Theodorskirchplatzes.\n
 \nBetreut von Davide Maniscalco lädt die TheoBar \njeweils
  Mittwochnachmittag von 12.00 - 18.00 Uhr\nKleine und Grosse zum Kaffee\,
  Sirup\, Spielen\, Reden oder Stillesein ein.\n\njeweils um 12.15  Uhr
  Lunch Sharing\n\n\n\n\n\n\n\n\nKontakt: Davide Maniscalco\n\nWeitere
  Infos: https://www.erk-bs.ch/veranstaltung/165904
SUMMARY:TheoBar
PRIORITY:5
X-MICROSOFT-CDO-IMPORTANCE:1
CLASS:PUBLIC
END:VEVENT
END:VCALENDAR
