BEGIN:VCALENDAR
PRODID:-//kirchenweb.ch gmbh//veranstaltungsausgabe v2.0//DE
VERSION:2.0
METHOD:PUBLISH
BEGIN:VEVENT
DTSTART:20230927T101500Z
DTEND:20230927T113000Z
LOCATION:Theodorskirche\, Theodorskirchplatz 5\, 4058 Basel
TRANSP:OPAQUE
SEQUENCE:0
UID:165942-veranstaltung@erk-bs.ch
DTSTAMP:20221202T085546Z
DESCRIPTION:Jeden Mittwoch 12.15 - 13:30 Uhr LunchSharing\n\nGemeinsam
  geniessen wir das Essen am Tisch...\n\n\nKontakt: Davide Maniscalco\n
 \nWeitere Infos: https://www.erk-bs.ch/veranstaltung/165942
SUMMARY:TheoBar Lunch Sharing
PRIORITY:5
X-MICROSOFT-CDO-IMPORTANCE:1
CLASS:PUBLIC
END:VEVENT
END:VCALENDAR
