BEGIN:VCALENDAR
PRODID:-//kirchenweb.ch gmbh//veranstaltungsausgabe v2.0//DE
VERSION:2.0
METHOD:PUBLISH
BEGIN:VEVENT
DTSTART:20230524T170000Z
DTEND:20230524T180000Z
LOCATION:Theodorskirche\, Theodorskirchplatz 5\, 4058 Basel
TRANSP:OPAQUE
SEQUENCE:0
UID:165996-veranstaltung@erk-bs.ch
DTSTAMP:20230508T153438Z
DESCRIPTION:Einladung zur Ordentlichen Kirchgemeindeversammlung\n
 \nTraktanden:\n\nDie Broschüre zur Kirchgemeindeversammlung finden Sie
  unten als PDF auf dieser Seite. Ab 10. Mai  2023 liegen die Broschüren
  auch in den Kirchen und Gemeindehäusern sowie im Gemeindesekretariat
  auf.\n\nWir freuen uns\, Sie an der Kirchgemeindeversammlung begrüssen
  zu können. \n\nDer Vorstand der Kirchgemeinde Kleinbasel\n\n\n\n\n
 \nKontakt: eveline.michel@erk-bs.ch\n\nWeitere Infos:
  https://www.erk-bs.ch/veranstaltung/165996
SUMMARY:KIRCHGEMEINDEVERSAMMLUNG 2023
PRIORITY:5
X-MICROSOFT-CDO-IMPORTANCE:1
CLASS:PUBLIC
END:VEVENT
END:VCALENDAR
