BEGIN:VCALENDAR
PRODID:-//kirchenweb.ch gmbh//veranstaltungsausgabe v2.0//DE
VERSION:2.0
METHOD:PUBLISH
BEGIN:VEVENT
DTSTART:20230517T130000Z
DTEND:20230517T140000Z
LOCATION:Kirchenzentrum St. Christophorus\, Kleinhüningeranlage 29\, 4057
  Basel
TRANSP:OPAQUE
SEQUENCE:0
UID:167805-veranstaltung@erk-bs.ch
DTSTAMP:20221229T105228Z
DESCRIPTION:Schollenmusik\n\nKontakt: Rita Sohn\, 061 631 04 58\n\nWeitere
  Infos: https://www.erk-bs.ch/veranstaltung/167805
SUMMARY:Seniorennachmittag
PRIORITY:5
X-MICROSOFT-CDO-IMPORTANCE:1
CLASS:PUBLIC
END:VEVENT
END:VCALENDAR
