BEGIN:VCALENDAR
PRODID:-//kirchenweb.ch gmbh//veranstaltungsausgabe v2.0//DE
VERSION:2.0
METHOD:PUBLISH
BEGIN:VEVENT
DTSTART:20230525T173000Z
DTEND:20230525T183000Z
LOCATION:Pavillon Dorfkirche Kleinhüningen\, Dorfstrasse 39\, 4057 Basel
TRANSP:OPAQUE
SEQUENCE:0
UID:171850-veranstaltung@erk-bs.ch
DTSTAMP:20230523T095017Z
DESCRIPTION:Austausch über Themen\, die bewegen bei einem Teller guter
  Suppe \n\nBei einem schmackhaften Teller Suppe und einem feinen Glas Wein
  wird uns unser Gast Angelo Curcio\, evangelisch-reformierter Seelsorger
  im Bundesasylzentrum (BAZ) Bässlergut\, über seine Tätigkeit im
  Asylzentrum im Auftrag der OeSA (Ökumenischer Seelsorgedienst für
  Asylsuchende) berichten\, ebenso über das Projekt «Attila-Stube» im
  Schopf der Dorfkirche Kleinhüningen und über seine langjährige
  Tätigkeit bei der GDV (Gemeinschaft der Versöhnung) in Israel und
  Libanon.\n\nAnmeldung bitte an:  thomkat@sunrise.ch\n\n\n\n\nKontakt:
  eveline.michel@erk-bs.ch\n\nWeitere Infos:
  https://www.erk-bs.ch/veranstaltung/171850
SUMMARY:Soup & Share
PRIORITY:5
X-MICROSOFT-CDO-IMPORTANCE:1
CLASS:PUBLIC
END:VEVENT
END:VCALENDAR
