BEGIN:VCALENDAR
PRODID:-//kirchenweb.ch gmbh//veranstaltungsausgabe v2.0//DE
VERSION:2.0
METHOD:PUBLISH
BEGIN:VEVENT
DTSTART:20230601T173000Z
DTEND:20230601T183000Z
LOCATION:Dorfkirche Kleinhüningen\, Dorfstrasse 39\, 4057 Basel
TRANSP:OPAQUE
SEQUENCE:0
UID:171852-veranstaltung@erk-bs.ch
DTSTAMP:20230522T101612Z
DESCRIPTION:Bekenntnisfrei-bekenntnislos. \nWo stehen wir\, als Teil der
  reformierten Kirche\, heute?\n\nMit Pfarrerin Katharina Autenrieth.\n
 \nKontakt: eveline.michel@erk-bs.ch\n\nWeitere Infos:
  https://www.erk-bs.ch/veranstaltung/171852
SUMMARY:Themenabend
PRIORITY:5
X-MICROSOFT-CDO-IMPORTANCE:1
CLASS:PUBLIC
END:VEVENT
END:VCALENDAR
