BEGIN:VCALENDAR
PRODID:-//kirchenweb.ch gmbh//veranstaltungsausgabe v2.0//DE
VERSION:2.0
METHOD:PUBLISH
BEGIN:VEVENT
DTSTART:20241224T170000Z
DTEND:20241224T210000Z
LOCATION:Münstersaal\, Bischofshof\, Rittergasse 1\, 4051 Basel
TRANSP:OPAQUE
SEQUENCE:0
UID:174055-veranstaltung@erk-bs.ch
DTSTAMP:20241220T080228Z
DESCRIPTION:Wer in der stillen Nacht der Stille der eigenen vier Wände
  entfliehen möchte\, der komme doch zu unserer Offenen Weihnachtsfeier am
  Münster. Im Münstersaal im Bischofshof wird der Tisch feierlich gedeckt
  sein. Dank dem grossen Einsatz vieler Freiwilliger kommen Alte und Junge
  zusammen\, manche von ihnen alleine\, andere bringen noch jemanden mit.
  Manche kennen sich aus vergangenen Jahren und freuen sich schon seit
  September darauf. Andere sind zum ersten Mal dabei. Kurzentschlossen
  kommen sie\, haben es vielleicht am Morgen noch gar nicht gewusst\, dass
  sie am Abend im schönsten Saal der Stadt Heiligabend erleben werden. Was
  gibt es ausser einem Festessen?\nKlassische Musik\, Weihnachtslieder\,
  und vor allem Zeit\, miteinander ins Gespräch zu kommen. Sie müssen
  sich nicht anmelden. Auch die Hirten\, auch die Könige erschienen
  unangemeldet.\n\nBesuchende\, die auf einen Rollstuhl angewiesen sind\,
  melden sich bitte bis am 20. Dezember bei https://david.meyle@erk-bs.ch\n
 \nKontakt: Pfrn. Caroline Schröder Field\n\nWeitere Infos:
  https://www.erk-bs.ch/veranstaltung/174055
SUMMARY:Offene Weihnachtsfeier im Münstersaal
PRIORITY:5
X-MICROSOFT-CDO-IMPORTANCE:1
CLASS:PUBLIC
END:VEVENT
END:VCALENDAR
