BEGIN:VCALENDAR
PRODID:-//kirchenweb.ch gmbh//veranstaltungsausgabe v2.0//DE
VERSION:2.0
METHOD:PUBLISH
BEGIN:VEVENT
DTSTART:20230527T073000Z
DTEND:20230527T113000Z
LOCATION:Begegnungszentrum Hirzbrunnen im Allmendhaus\, Allmendstrasse
  36\, 4058 Basel
TRANSP:OPAQUE
SEQUENCE:0
UID:175747-veranstaltung@erk-bs.ch
DTSTAMP:20240118T083145Z
DESCRIPTION:Interaktiver und abwechslungsreicher Vormittag rund um
  Pfingsten\, gemeinschaftlich feiern und essen. \n\nAlle interessierten
  Kinder mit ihren Eltern und Jugendliche sind herzlich willkommen!\n\nWir
  freuen uns auf Euer Kommen!\n\nAnmeldung erwünscht an
  luca.pontillo@erk-bs.ch\, 079 695 98 50\, bis 18. Mai 2023.\n\nPfarrerin
  Katharina Autenrieth\, ERK Kleinbasel & Jugendseelsorger Luca Pontillo
  Pfarrei St. Clara\n\n\n\n\nKontakt: eveline.michel@erk-bs.ch\n\nWeitere
  Infos: https://www.erk-bs.ch/veranstaltung/175747
SUMMARY:Glaubensding - Pfingsten feiern. Für Kinder in Begleitung ihrer
  Eltern und Jugendliche.
PRIORITY:5
X-MICROSOFT-CDO-IMPORTANCE:1
CLASS:PUBLIC
END:VEVENT
END:VCALENDAR
