BEGIN:VCALENDAR
PRODID:-//kirchenweb.ch gmbh//veranstaltungsausgabe v2.0//DE
VERSION:2.0
METHOD:PUBLISH
BEGIN:VEVENT
DTSTART:20231008T080000Z
DTEND:20231008T090000Z
LOCATION:Theodorskirche\, Theodorskirchplatz 5\, 4058 Basel
TRANSP:OPAQUE
SEQUENCE:0
UID:176703-veranstaltung@erk-bs.ch
DTSTAMP:20230907T131344Z
DESCRIPTION:«Wish you were here»\, \n\nÜber unseren
  http://www.youtube.com/channel/UCAW8gzkA7BgOx9e7CiK23ig können Sie
  diesen Gottesdienst live mitfeiern oder auch danach nochmals anschauen. 
 \n\n\n\nKontakt: \n\nWeitere Infos:
  https://www.erk-bs.ch/veranstaltung/176703
SUMMARY:Gottesdienst mit Abendmahl und Livestream
PRIORITY:5
X-MICROSOFT-CDO-IMPORTANCE:1
CLASS:PUBLIC
END:VEVENT
END:VCALENDAR
