BEGIN:VCALENDAR
PRODID:-//kirchenweb.ch gmbh//veranstaltungsausgabe v2.0//DE
VERSION:2.0
METHOD:PUBLISH
BEGIN:VEVENT
DTSTART:20231015T080000Z
DTEND:20231015T090000Z
LOCATION:Theodorskirche\, Theodorskirchplatz 5\, 4058 Basel
TRANSP:OPAQUE
SEQUENCE:0
UID:176704-veranstaltung@erk-bs.ch
DTSTAMP:20230704T082704Z
DESCRIPTION:Kontakt: Pfarrer Lucius Kratzert\n\nWeitere Infos:
  https://www.erk-bs.ch/veranstaltung/176704
SUMMARY:Gottesdienst
PRIORITY:5
X-MICROSOFT-CDO-IMPORTANCE:1
CLASS:PUBLIC
END:VEVENT
END:VCALENDAR
