BEGIN:VCALENDAR
PRODID:-//kirchenweb.ch gmbh//veranstaltungsausgabe v2.0//DE
VERSION:2.0
METHOD:PUBLISH
BEGIN:VEVENT
DTSTART:20230924T080000Z
DTEND:20230924T090000Z
LOCATION:Theodorskirche\, Theodorskirchplatz 5\, 4058 Basel
TRANSP:OPAQUE
SEQUENCE:0
UID:176717-veranstaltung@erk-bs.ch
DTSTAMP:20240201T152820Z
DESCRIPTION:Was hat uns die Natur\, der Rhythmus der Jahreszeiten\, das
  Zusammenspiel der Elemente Wasser\, Licht\, Luft und Erde dieses Jahr
  alles geschenkt? Wir sagen unserem Schöpfer Dank.\n\nÜber unseren
  http://www.youtube.com/channel/UCAW8gzkA7BgOx9e7CiK23ig können Sie
  diesen Gottesdienst live mitfeiern oder auch danach nochmals anschauen. 
 \n\nIm Anschluss: Erntedank-Teilete mit dem\, was zusammenkommt. \nFür
  Beiträge zum Teilete-Buffet bitte eine kurze Meldung an: Katharina
  Autenrieth-Fischlewitz\n\nAnschliessend um\n11.15 Uhr: Orgelmatinée auf
  der Orgelempore mit der Geschichte «An der Arche um Acht»\n\n\n\n\n\n
 \nKontakt: Katharina Autenrieth-Fischlewitz\n\nWeitere Infos:
  https://www.erk-bs.ch/veranstaltung/176717
SUMMARY:Gottesdienst zum Erntedankfest für Gross & Klein mit Livestream
PRIORITY:5
X-MICROSOFT-CDO-IMPORTANCE:1
CLASS:PUBLIC
END:VEVENT
END:VCALENDAR
