BEGIN:VCALENDAR
PRODID:-//kirchenweb.ch gmbh//veranstaltungsausgabe v2.0//DE
VERSION:2.0
METHOD:PUBLISH
BEGIN:VEVENT
DTSTART:20231014T150000Z
DTEND:20231014T160000Z
LOCATION:Dorfkirche Kleinhüningen\, Dorfstrasse 39\, 4057 Basel
TRANSP:OPAQUE
SEQUENCE:0
UID:176724-veranstaltung@erk-bs.ch
DTSTAMP:20230704T082651Z
DESCRIPTION:Kontakt: Katharina Autenrieth-Fischlewitz\n\nWeitere Infos:
  https://www.erk-bs.ch/veranstaltung/176724
SUMMARY:Gottesdienst mit Abendmahl
PRIORITY:5
X-MICROSOFT-CDO-IMPORTANCE:1
CLASS:PUBLIC
END:VEVENT
END:VCALENDAR
