BEGIN:VCALENDAR
PRODID:-//kirchenweb.ch gmbh//veranstaltungsausgabe v2.0//DE
VERSION:2.0
METHOD:PUBLISH
BEGIN:VEVENT
DTSTART:20230926T173000Z
DTEND:20230926T190000Z
LOCATION:Matthäuskirche\, Feldbergstrasse 81\, 4057 Basel
TRANSP:OPAQUE
SEQUENCE:0
UID:178048-veranstaltung@erk-bs.ch
DTSTAMP:20230614T092337Z
DESCRIPTION:Wir suchen musikbegeisterte Mitglieder für unseren
  Kirchenchor Kleinbasel\n\nAlle Stimmlagen sind herzlich willkommen.
 \nEinfach vorbeikommen und mitmachen. Wir freuen uns auf Sie! \n\nProben
  jeweils dienstags\, 19.30 - 21.00 Uhr\nin der Matthäuskirche -
  Seiteneingang.\n\nKontakt:\nBeatrice Voellmy\, Chorleiterin: 076 468 19
  00\, bvoellmy@yahoo.com \nChristian
  Vontobel:christian_vontobel@bluewin.ch\n\n\n\n\nKontakt:
  eveline.michel@erk-bs.ch\n\nWeitere Infos:
  https://www.erk-bs.ch/veranstaltung/178048
SUMMARY:Kirchenchor Kirchgemeinde Kleinbasel / Proben
PRIORITY:5
X-MICROSOFT-CDO-IMPORTANCE:1
CLASS:PUBLIC
END:VEVENT
END:VCALENDAR
