BEGIN:VCALENDAR
PRODID:-//kirchenweb.ch gmbh//veranstaltungsausgabe v2.0//DE
VERSION:2.0
METHOD:PUBLISH
BEGIN:VEVENT
DTSTART:20231003T163000Z
DTEND:20231003T173000Z
LOCATION:Offene Kirche Elisabethen\, \,
TRANSP:OPAQUE
SEQUENCE:0
UID:178062-veranstaltung@erk-bs.ch
DTSTAMP:20230614T092834Z
DESCRIPTION:Friedensgebet für die Ukraine und andere Kriegsgebiete\n\nAn
  jedem ersten Dienstag im Monat um 18.30 Uhr laden wir herzlich ein in die
  Offene Kirche Elisabethen. Nach dem Gebet gibt es jeweils Raum für
  Austausch und Vernetzung rund um die Situation geflohener Menschen in
  unserer Stadt.\n\nKontakt: eveline.michel@erk-bs.ch\n\nWeitere Infos:
  https://www.erk-bs.ch/veranstaltung/178062
SUMMARY:Ökumenisches Friedensgebet
PRIORITY:5
X-MICROSOFT-CDO-IMPORTANCE:1
CLASS:PUBLIC
END:VEVENT
END:VCALENDAR
