BEGIN:VCALENDAR
PRODID:-//kirchenweb.ch gmbh//veranstaltungsausgabe v2.0//DE
VERSION:2.0
METHOD:PUBLISH
BEGIN:VEVENT
DTSTART:20230922T100000Z
DTEND:20230922T110000Z
LOCATION:Begegnungszentrum Hirzbrunnen im Allmendhaus\, Allmendstrasse
  36\, 4058 Basel
TRANSP:OPAQUE
SEQUENCE:0
UID:178268-veranstaltung@erk-bs.ch
DTSTAMP:20230620T092202Z
DESCRIPTION:Mittagsclub im Hirzbrunnenquartier\njeden Freitag um 12.00 Uhr
 \n\nMit Suppe\, Salat\, Hauptgang\, Dessert\, Kaffi und Getränken Fr.
  15.--\n\nUnser Motto:\nWöchentlich in guter Gemeinschaft geniessen. Das
  tut wohl. \nNach dem feinen Essen singen wir oft fröhliche Lieder\,
  hören \neine Geschichte und gehen guter Dinge wieder in den Alltag.\n
 \nHerzlich willkommen im Mittagsclub! \n\nAnmeldung: bis jeweils
  spätestens Mittwoch\, 16.00 Uhr: Telefon 061 691 00 56
  (Telefonbeantworter)\n\n\n\nKontakt: Kathrin Knoepfli\n\nWeitere Infos:
  https://www.erk-bs.ch/veranstaltung/178268
SUMMARY:Mittagsclub
PRIORITY:5
X-MICROSOFT-CDO-IMPORTANCE:1
CLASS:PUBLIC
END:VEVENT
END:VCALENDAR
