BEGIN:VCALENDAR
PRODID:-//kirchenweb.ch gmbh//veranstaltungsausgabe v2.0//DE
VERSION:2.0
METHOD:PUBLISH
BEGIN:VEVENT
DTSTART:20230928T173000Z
DTEND:20230928T183000Z
LOCATION:Dorfkirche Kleinhüningen\, Dorfstrasse 39\, 4057 Basel
TRANSP:OPAQUE
SEQUENCE:0
UID:178662-veranstaltung@erk-bs.ch
DTSTAMP:20230920T062844Z
DESCRIPTION:Mit Pfarrerin Franziska Kuhn\n\n«Schöpfungszeit bezeichnet
  im Kirchenjahr die Zeit zwischen dem 1. September und dem 4. Oktober. Die
  Kirchen sind dann dazu aufgerufen\, die Schöpfung besonders in den Fokus
  zu nehmen und uns als Geschöpfe gegenseitig zu ermutigen auf dem Weg
  eines sorgfältigen Umgangs mit ihr.\n\n«Gedeihen\, (Lebens-)raum
  ermöglichen\, wertschätzen\, Teil sein...»\n\nWir tun dies am
  Donnerstagabend mit einem Input von Kai Rainacher\, Biologe und
  Mitbegründer von Arbol con razón (Aufforstungsprojekte) und einer
  vertiefenden Meditation\, umrahmt von passender Musik.»\n\nPfarrerin
  Franziska Kuhn\n\n\n\nKontakt: eveline.michel@erk-bs.ch\n\nWeitere Infos:
  https://www.erk-bs.ch/veranstaltung/178662
SUMMARY:Meditation
PRIORITY:5
X-MICROSOFT-CDO-IMPORTANCE:1
CLASS:PUBLIC
END:VEVENT
END:VCALENDAR
