BEGIN:VCALENDAR
PRODID:-//kirchenweb.ch gmbh//veranstaltungsausgabe v2.0//DE
VERSION:2.0
METHOD:PUBLISH
BEGIN:VEVENT
DTSTART:20260425T070000Z
DTEND:20260425T100000Z
LOCATION:Titus Kirche\, im tiefen Boden 75\, 4059 Basel
TRANSP:OPAQUE
SEQUENCE:0
UID:178720-veranstaltung@erk-bs.ch
DTSTAMP:20230627T120532Z
DESCRIPTION:Der Treff für 4.-6. Klässler:innen\n\nGemeinsam den Glauben
  entdecken - spielerisch\, aktiv\, ruhig\, wild\n\nKontakt: Pfrn.
  Jacqueline Hofer\n\nWeitere Infos:
  https://www.erk-bs.ch/veranstaltung/178720
SUMMARY:Domino
PRIORITY:5
X-MICROSOFT-CDO-IMPORTANCE:1
CLASS:PUBLIC
END:VEVENT
END:VCALENDAR
