BEGIN:VCALENDAR
PRODID:-//kirchenweb.ch gmbh//veranstaltungsausgabe v2.0//DE
VERSION:2.0
METHOD:PUBLISH
BEGIN:VEVENT
DTSTART:20230920T130000Z
DTEND:20230920T140000Z
LOCATION:Kirchenzentrum St. Christophorus\, Kleinhüningeranlage 29\, 4057
  Basel
TRANSP:OPAQUE
SEQUENCE:0
UID:178905-veranstaltung@erk-bs.ch
DTSTAMP:20230809T070707Z
DESCRIPTION:Gemütliches Unterhaltungsprogramm mit Drehorgelmusik.\n\n\n\n
 \n\nKontakt: Rita Sohn\, 061 631 04 58\n\nWeitere Infos:
  https://www.erk-bs.ch/veranstaltung/178905
SUMMARY:Seniorennachmittag
PRIORITY:5
X-MICROSOFT-CDO-IMPORTANCE:1
CLASS:PUBLIC
END:VEVENT
END:VCALENDAR
