BEGIN:VCALENDAR
PRODID:-//kirchenweb.ch gmbh//veranstaltungsausgabe v2.0//DE
VERSION:2.0
METHOD:PUBLISH
BEGIN:VEVENT
DTSTART:20231011T130000Z
DTEND:20231011T140000Z
LOCATION:Pavillon Dorfkirche Kleinhüningen\, Dorfstrasse 39\, 4057 Basel
TRANSP:OPAQUE
SEQUENCE:0
UID:178914-veranstaltung@erk-bs.ch
DTSTAMP:20230807T143913Z
DESCRIPTION:Gemütliches Beisammensein mit Kaffee und Kuchen.\n\nHeute:
  Musik mit Ruedi Wasser.\n\n\n\n\nKontakt: Iris Näf\, 061 631 18 87\n
 \nWeitere Infos: https://www.erk-bs.ch/veranstaltung/178914
SUMMARY:Seniorennachmittag
PRIORITY:5
X-MICROSOFT-CDO-IMPORTANCE:1
CLASS:PUBLIC
END:VEVENT
END:VCALENDAR
