BEGIN:VCALENDAR
PRODID:-//kirchenweb.ch gmbh//veranstaltungsausgabe v2.0//DE
VERSION:2.0
METHOD:PUBLISH
BEGIN:VEVENT
DTSTART:20230927T130000Z
DTEND:20230927T140000Z
LOCATION:Gemeindehaus St. Theodor\, Claragraben 43\, 4058 Basel
TRANSP:OPAQUE
SEQUENCE:0
UID:178918-veranstaltung@erk-bs.ch
DTSTAMP:20230807T144438Z
DESCRIPTION:Heute wird Köbi Hauri als Grillmeister im Gemeindehaus-Garten
  ein gemütliches Beisammensein gestalten.\n\nKontakt: Kathrin Knoepfli\n
 \nWeitere Infos: https://www.erk-bs.ch/veranstaltung/178918
SUMMARY:Seniorennachmittag
PRIORITY:5
X-MICROSOFT-CDO-IMPORTANCE:1
CLASS:PUBLIC
END:VEVENT
END:VCALENDAR
