BEGIN:VCALENDAR
PRODID:-//kirchenweb.ch gmbh//veranstaltungsausgabe v2.0//DE
VERSION:2.0
METHOD:PUBLISH
BEGIN:VEVENT
DTSTART:20230924T091500Z
DTEND:20230924T101500Z
LOCATION:Theodorskirche\, Theodorskirchplatz 5\, 4058 Basel
TRANSP:OPAQUE
SEQUENCE:0
UID:179482-veranstaltung@erk-bs.ch
DTSTAMP:20230807T125721Z
DESCRIPTION:Orgelmatinée auf der Orgelempore mit der Geschichte \n«An
  der Arche um Acht»\n\nNicoleta Paraschivescu\, Orgel\nPfarrerin
  Katharina Autenrieth\, Erzählung\n\nKontakt: eveline.michel@erk-bs.ch\n
 \nWeitere Infos: https://www.erk-bs.ch/veranstaltung/179482
SUMMARY:Orgelmatinée mit Geschichte
PRIORITY:5
X-MICROSOFT-CDO-IMPORTANCE:1
CLASS:PUBLIC
END:VEVENT
END:VCALENDAR
