BEGIN:VCALENDAR
PRODID:-//kirchenweb.ch gmbh//veranstaltungsausgabe v2.0//DE
VERSION:2.0
METHOD:PUBLISH
BEGIN:VEVENT
DTSTART:20230924T150000Z
DTEND:20230924T160000Z
LOCATION:Michaelskirche\, Allmendstrasse 34\, 4058 Basel
TRANSP:OPAQUE
SEQUENCE:0
UID:179601-veranstaltung@erk-bs.ch
DTSTAMP:20230904T144021Z
DESCRIPTION:Auch in diesem Jahr wird Frau Sachiko Furuhata ihr
  Konzertprogramm im Hirzbrunnen auf dem bewährten Flügel der
  Markuskirche durchführen; sie wird den wunderschönen Flügel an seinem
  neuen Standort in der Michaelskirche spielen und uns mit ihren Stücken
  von Chopin und Liszt verzaubern.\n\nEine angemessene Kollekte freut uns
  am Ausgang und hilft\, die Unkosten zu tragen.\n\n\n\n\nKontakt:
  eveline.michel@erk-bs.ch\n\nWeitere Infos:
  https://www.erk-bs.ch/veranstaltung/179601
SUMMARY:Klavierkonzert
PRIORITY:5
X-MICROSOFT-CDO-IMPORTANCE:1
CLASS:PUBLIC
END:VEVENT
END:VCALENDAR
