BEGIN:VCALENDAR
PRODID:-//kirchenweb.ch gmbh//veranstaltungsausgabe v2.0//DE
VERSION:2.0
METHOD:PUBLISH
BEGIN:VEVENT
DTSTART:20230927T150000Z
DTEND:20230927T160000Z
LOCATION:Theodorskirche\, Theodorskirchplatz 5\, 4058 Basel
TRANSP:OPAQUE
SEQUENCE:0
UID:179620-veranstaltung@erk-bs.ch
DTSTAMP:20240304T081331Z
DESCRIPTION:Wir wollen unsere Kleider\, Taschen und Schuhe usw. wieder in
  den Umlauf bringen und miteinander tauschen.\n\n\nWas übrig bleibt
  übergeben wir einer karitativen Eirichtung.\n\nWir freuen uns auf ein
  gemütliches Beisammensein.\nFür Getränke ist gesorgt - Fingerfood
  erwünscht!\n\n\n\nKontakt: Katharina Autenrieth-Fischlewitz\n\nWeitere
  Infos: https://www.erk-bs.ch/veranstaltung/179620
SUMMARY:Frauenkleidertauschbörse
PRIORITY:5
X-MICROSOFT-CDO-IMPORTANCE:1
CLASS:PUBLIC
END:VEVENT
END:VCALENDAR
