BEGIN:VCALENDAR
PRODID:-//kirchenweb.ch gmbh//veranstaltungsausgabe v2.0//DE
VERSION:2.0
METHOD:PUBLISH
BEGIN:VEVENT
DTSTART:20230927T180000Z
DTEND:20230927T190000Z
LOCATION:Theodorskirche\, Theodorskirchplatz 5\, 4058 Basel
TRANSP:OPAQUE
SEQUENCE:0
UID:179627-veranstaltung@erk-bs.ch
DTSTAMP:20230809T093519Z
DESCRIPTION:Mondenschein\ntrio someāl\n\nGesang: Alice Gisler\, Sylvia
  Nopper\, Sari Lejendekker\nOrgel und Klavier: Anastasia Stahl \n
 \nEintritt frei - Kollekte\n\n\n\nKontakt: Davide Maniscalco\n\nWeitere
  Infos: https://www.erk-bs.ch/veranstaltung/179627
SUMMARY:TheoSounds
PRIORITY:5
X-MICROSOFT-CDO-IMPORTANCE:1
CLASS:PUBLIC
END:VEVENT
END:VCALENDAR
