BEGIN:VCALENDAR
PRODID:-//kirchenweb.ch gmbh//veranstaltungsausgabe v2.0//DE
VERSION:2.0
METHOD:PUBLISH
BEGIN:VEVENT
DTSTART:20230920T170000Z
DTEND:20230920T180000Z
LOCATION:Kapelle Matthäuskirche\, Feldbergstrasse 81\, 4057 Basel
TRANSP:OPAQUE
SEQUENCE:0
UID:180673-veranstaltung@erk-bs.ch
DTSTAMP:20230901T061617Z
DESCRIPTION:Die Bibel in Bewegungen entdecken\nmit Silvia Gurtner \n\n\n\n
 \n\nKontakt: eveline.michel@erk-bs.ch\n\nWeitere Infos:
  https://www.erk-bs.ch/veranstaltung/180673
SUMMARY:Bibel getanzt
PRIORITY:5
X-MICROSOFT-CDO-IMPORTANCE:1
CLASS:PUBLIC
END:VEVENT
END:VCALENDAR
