BEGIN:VCALENDAR
PRODID:-//kirchenweb.ch gmbh//veranstaltungsausgabe v2.0//DE
VERSION:2.0
METHOD:PUBLISH
BEGIN:VEVENT
DTSTART:20231017T100000Z
DTEND:20231017T110000Z
LOCATION:Gemeindehaus St. Theodor\, Claragraben 43\, 4058 Basel
TRANSP:OPAQUE
SEQUENCE:0
UID:180802-veranstaltung@erk-bs.ch
DTSTAMP:20230907T150944Z
DESCRIPTION:Eine gute Suppe bei guter Stimmung für einen guten Zweck. 
 \nStammgäste und neue Besucher*innen sind herzlich willkommen.\n\nAlle
  Suppentage dieser Saison: \n\n\nKontakt: eveline.michel@erk-bs.ch\n
 \nWeitere Infos: https://www.erk-bs.ch/veranstaltung/180802
SUMMARY:Ökumenischer Suppentag
PRIORITY:5
X-MICROSOFT-CDO-IMPORTANCE:1
CLASS:PUBLIC
END:VEVENT
END:VCALENDAR
