BEGIN:VCALENDAR
PRODID:-//kirchenweb.ch gmbh//veranstaltungsausgabe v2.0//DE
VERSION:2.0
METHOD:PUBLISH
BEGIN:VEVENT
DTSTART:20230920T170000Z
DTEND:20230920T180000Z
LOCATION:Theodorskirche\, Theodorskirchplatz 5\, 4058 Basel
TRANSP:OPAQUE
SEQUENCE:0
UID:180834-veranstaltung@erk-bs.ch
DTSTAMP:20230919T090705Z
DESCRIPTION:Unter dem Sternenhimmel\n\nDarina Ablogina\, Querflöte
 \nTobias Lindner\, Orgel\n\nEintritt frei - Kollekte am Ausgang.\n\nDieses
  Konzert wird unterstützt von der Sulger-Stiftung.\n\n\n\nKontakt: Davide
  Maniscalco\n\nWeitere Infos: https://www.erk-bs.ch/veranstaltung/180834
SUMMARY:TheoSounds
PRIORITY:5
X-MICROSOFT-CDO-IMPORTANCE:1
CLASS:PUBLIC
END:VEVENT
END:VCALENDAR
