BEGIN:VCALENDAR
PRODID:-//kirchenweb.ch gmbh//veranstaltungsausgabe v2.0//DE
VERSION:2.0
METHOD:PUBLISH
BEGIN:VEVENT
DTSTART:20230923T100000Z
DTEND:20230923T120000Z
LOCATION:Matthäuskirche\, Feldbergstrasse 81\, 4057 Basel
TRANSP:OPAQUE
SEQUENCE:0
UID:181172-veranstaltung@erk-bs.ch
DTSTAMP:20230920T091748Z
DESCRIPTION:Konfirmand*innen unserer Kirchgemeinde werden am Samstag\, 23.
  September 2023\, zwischen 12.00 - 14.00 Uhr zusammen mit Pfarrer Tobias
  Dietrich eine vegane Kürbissuppe aus gespendeten Zutaten auf dem
  Kürbismarkt (Matthäusplatz) verteilen. \n\nMit dieser Aktion weisen sie
  auf das Erntedankfest hin\, welches wir einen Tag später um 10.00 Uhr in
  der Theodorskirche feiern. Ausserdem wird um Spenden gebeten\, die einem
  Projekt aus der Entwicklungshilfe zugute kommen\, damit Menschen in
  anderen Teilen unserer Erde bei der Ernte unter immer schwierigeren
  Bedingungen unterstützt werden. Am Vormittag wird die Suppe von den
  Jugendlichen im Gemeinzentrum Matthäus gekocht. \n\nHerzliche Einladung.
 \n\nKontakt: eveline.michel@erk-bs.ch\n\nWeitere Infos:
  https://www.erk-bs.ch/veranstaltung/181172
SUMMARY:Suppe am Kürbismarkt
PRIORITY:5
X-MICROSOFT-CDO-IMPORTANCE:1
CLASS:PUBLIC
END:VEVENT
END:VCALENDAR
