BEGIN:VCALENDAR
PRODID:-//kirchenweb.ch gmbh//veranstaltungsausgabe v2.0//DE
VERSION:2.0
METHOD:PUBLISH
BEGIN:VEVENT
DTSTART:20260514T080000Z
DTEND:20260514T090000Z
LOCATION:Münster\, Münsterplatz 9\, 4051 Basel
TRANSP:OPAQUE
SEQUENCE:0
UID:196363-veranstaltung@erk-bs.ch
DTSTAMP:20260420T065056Z
DESCRIPTION:Im Anschluss Kirchenkaffee in der Hofstube\, Bischofshof
 \n(ausser nach Abendmahlsgottesdienst und während der Schulferien)\n\n\n
 \nKontakt: Vikar Felix Berki\n\nWeitere Infos:
  https://www.erk-bs.ch/veranstaltung/196363
SUMMARY:Gottesdienst mit Abendmahl an Himmelfahrt
PRIORITY:5
X-MICROSOFT-CDO-IMPORTANCE:1
CLASS:PUBLIC
END:VEVENT
END:VCALENDAR
