BEGIN:VCALENDAR
PRODID:-//kirchenweb.ch gmbh//veranstaltungsausgabe v2.0//DE
VERSION:2.0
METHOD:PUBLISH
BEGIN:VEVENT
DTSTART:20260510T080000Z
DTEND:20260510T093000Z
LOCATION:Münster\, Münsterplatz 9\, 4051 Basel
TRANSP:OPAQUE
SEQUENCE:0
UID:196367-veranstaltung@erk-bs.ch
DTSTAMP:20260311T094602Z
DESCRIPTION:Im Anschluss Apéro in der Maria-Magdalena-Kapelle\n\n\n
 \nKontakt: Pfrn. Caroline Schröder Field\n\nWeitere Infos:
  https://www.erk-bs.ch/veranstaltung/196367
SUMMARY:Konfirmations-Gottesdienst
PRIORITY:5
X-MICROSOFT-CDO-IMPORTANCE:1
CLASS:PUBLIC
END:VEVENT
END:VCALENDAR
