BEGIN:VCALENDAR
PRODID:-//kirchenweb.ch gmbh//veranstaltungsausgabe v2.0//DE
VERSION:2.0
METHOD:PUBLISH
BEGIN:VEVENT
DTSTART:20251119T183000Z
DTEND:20251119T200000Z
LOCATION:Kornfeldkirche\, Kornfeldstr. 51\, 4125 Riehen
TRANSP:OPAQUE
SEQUENCE:0
UID:198722-veranstaltung@erk-bs.ch
DTSTAMP:20241205T104038Z
DESCRIPTION:Kontakt: Pfarrerin Emanuelle Dobler\n\nWeitere Infos:
  https://www.erk-bs.ch/veranstaltung/198722
SUMMARY:Kornfeld Forum
PRIORITY:5
X-MICROSOFT-CDO-IMPORTANCE:1
CLASS:PUBLIC
END:VEVENT
END:VCALENDAR
