BEGIN:VCALENDAR
PRODID:-//kirchenweb.ch gmbh//veranstaltungsausgabe v2.0//DE
VERSION:2.0
METHOD:PUBLISH
BEGIN:VEVENT
DTSTART:20260627T080000Z
DTEND:20260627T090000Z
LOCATION:Münster\, Münsterplatz 9\, 4051 Basel
TRANSP:OPAQUE
SEQUENCE:0
UID:199230-veranstaltung@erk-bs.ch
DTSTAMP:20240913T100834Z
DESCRIPTION:Kurzfristige Schliessung (z.B. wegen Konzerten\, Abdankungen\,
  Bauarbeiten)\n\nKontakt: sandra.schmied@erk-bs.ch\n\nWeitere Infos:
  https://www.erk-bs.ch/veranstaltung/199230
SUMMARY:Münster ganztags für Besichtigungen geschlossen
PRIORITY:5
X-MICROSOFT-CDO-IMPORTANCE:1
CLASS:PUBLIC
END:VEVENT
END:VCALENDAR
