BEGIN:VCALENDAR
PRODID:-//kirchenweb.ch gmbh//veranstaltungsausgabe v2.0//DE
VERSION:2.0
METHOD:PUBLISH
BEGIN:VEVENT
DTSTART:20251112T133000Z
DTEND:20251112T153000Z
LOCATION:Andreashaus\, Keltenweg 41\, 4125 Riehen
TRANSP:OPAQUE
SEQUENCE:0
UID:201648-veranstaltung@erk-bs.ch
DTSTAMP:20241115T134651Z
DESCRIPTION:Alte Bekannte und Freunde treffen\, neue kennen lernen\, sich
  unterhalten – ernsthaft und heiter - und ein feines Zvieri geniessen. 
 \nDrei engagierte Frauen bilden das Team und backen mit Liebe jedes Mal
  etwas "Gluschtiges". \n\nWir hören eine spannende Geschichte und wir
  diskutieren über aktuelle Themen oder was uns gerade beschäftigt.\n
 \nWir laden Sie herzlich dazu ein\, kommen Sie einfach bei uns vorbei.
 \nMittwoch von 14.30 bis ca. 17.00 Uhr\, alle 14 Tage im Andreashaus.\n
 \nSuzanne Schmidt Tel.077 533 74 21\n\nKontakt: Suzanne Schmidt\n\nWeitere
  Infos: https://www.erk-bs.ch/veranstaltung/201648
SUMMARY:Senioren-Kaffikränzli
PRIORITY:5
X-MICROSOFT-CDO-IMPORTANCE:1
CLASS:PUBLIC
END:VEVENT
END:VCALENDAR
