BEGIN:VCALENDAR
PRODID:-//kirchenweb.ch gmbh//veranstaltungsausgabe v2.0//DE
VERSION:2.0
METHOD:PUBLISH
BEGIN:VEVENT
DTSTART:20251020T040000Z
DTEND:20251020T050000Z
LOCATION:Pfarrkapelle\, Kirchstrasse 7\, 4125 Riehen
TRANSP:OPAQUE
SEQUENCE:0
UID:201721-veranstaltung@erk-bs.ch
DTSTAMP:20241119T140038Z
DESCRIPTION:Kontakt: Cornelia Merz\n\nWeitere Infos:
  https://www.erk-bs.ch/veranstaltung/201721
SUMMARY:Morgengebet
PRIORITY:5
X-MICROSOFT-CDO-IMPORTANCE:1
CLASS:PUBLIC
END:VEVENT
END:VCALENDAR
