BEGIN:VCALENDAR
PRODID:-//kirchenweb.ch gmbh//veranstaltungsausgabe v2.0//DE
VERSION:2.0
METHOD:PUBLISH
BEGIN:VEVENT
DTSTART:20250615T170000Z
DTEND:20250615T190000Z
LOCATION:Dorfkirche\, Kirchplatz\, 4125 Riehen
TRANSP:OPAQUE
SEQUENCE:0
UID:202098-veranstaltung@erk-bs.ch
DTSTAMP:20241125T062916Z
DESCRIPTION:Kontakt: Pfarrerin Martina Holder\n\nWeitere Infos:
  https://www.erk-bs.ch/veranstaltung/202098
SUMMARY:Taize Abendgebet
PRIORITY:5
X-MICROSOFT-CDO-IMPORTANCE:1
CLASS:PUBLIC
END:VEVENT
END:VCALENDAR
