BEGIN:VCALENDAR
PRODID:-//kirchenweb.ch gmbh//veranstaltungsausgabe v2.0//DE
VERSION:2.0
METHOD:PUBLISH
BEGIN:VEVENT
DTSTART:20260426T170000Z
DTEND:20260426T180000Z
LOCATION:Dorfkirche Kleinhüningen\, Dorfstrasse 39\, 4057 Basel
TRANSP:OPAQUE
SEQUENCE:0
UID:202103-veranstaltung@erk-bs.ch
DTSTAMP:20260317T152013Z
DESCRIPTION:Kontakt: Franziska Kuhn-Häderli\n\nWeitere Infos:
  https://www.erk-bs.ch/veranstaltung/202103
SUMMARY:Jazz-Gottesdienst
PRIORITY:5
X-MICROSOFT-CDO-IMPORTANCE:1
CLASS:PUBLIC
END:VEVENT
END:VCALENDAR
