BEGIN:VCALENDAR
PRODID:-//kirchenweb.ch gmbh//veranstaltungsausgabe v2.0//DE
VERSION:2.0
METHOD:PUBLISH
BEGIN:VEVENT
DTSTART:20251016T100000Z
DTEND:20251016T120000Z
LOCATION:Meierhof\, Kirchplatz 7\, 4125 Riehen
TRANSP:OPAQUE
SEQUENCE:0
UID:202943-veranstaltung@erk-bs.ch
DTSTAMP:20241203T093817Z
DESCRIPTION:Geniessen Sie jeweils am Donnerstag  um 12 Uhr ein feines
  Mittagessen in netter Gesellschaft und lassen Sie sich verwöhnen. Der
  Mittagsclub im Meierhof hinter der Dorfkirche lädt Sie herzlich dazu
  ein. Kosten: Fr. 18.- pro Mahlzeit.\n\nKontakt: kristina.molnar@erk-bs.ch
 \n\nWeitere Infos: https://www.erk-bs.ch/veranstaltung/202943
SUMMARY:Mittagsclub Meierhof
PRIORITY:5
X-MICROSOFT-CDO-IMPORTANCE:1
CLASS:PUBLIC
END:VEVENT
END:VCALENDAR
