BEGIN:VCALENDAR
PRODID:-//kirchenweb.ch gmbh//veranstaltungsausgabe v2.0//DE
VERSION:2.0
METHOD:PUBLISH
BEGIN:VEVENT
DTSTART:20251113T183000Z
DTEND:20251113T193000Z
LOCATION:Dorfkirche\, Kirchplatz\, 4125 Riehen
TRANSP:OPAQUE
SEQUENCE:0
UID:202979-veranstaltung@erk-bs.ch
DTSTAMP:20241204T072514Z
DESCRIPTION:Kontakt: Pfarrerin Martina Holder\n\nWeitere Infos:
  https://www.erk-bs.ch/veranstaltung/202979
SUMMARY:Meditatives Tanzen
PRIORITY:5
X-MICROSOFT-CDO-IMPORTANCE:1
CLASS:PUBLIC
END:VEVENT
END:VCALENDAR
